BEGIN:VCALENDAR
VERSION:2.0
PRODID:-//Division of Infectious Diseases//NONSGML Events//EN
CALSCALE:GREGORIAN
X-ORIGINAL-URL:https://infectiousdiseases.wustl.edu/events/
X-WR-CALDESC:Division of Infectious Diseases - Events
BEGIN:VEVENT
UID:20240127T0823Z-1706343790.1964-EO-31219-1@172.23.128.18
STATUS:CONFIRMED
DTSTAMP:20260424T075044Z
CREATED:20240126T205229Z
LAST-MODIFIED:20240126T205348Z
DTSTART;TZID=America/Chicago:20240226T120000
DTEND;TZID=America/Chicago:20240226T130000
SUMMARY: Visiting Speaker: Dmitri Kotov\, PhD
DESCRIPTION: Talk title: “Myeloid cell-driven immunosuppressive feedback lo
 ops underlying susceptibility to tuberculosis.” Chalk talk: Monday\, Februa
 ry 26 at 3pm-4 in the MPRB 8101
X-ALT-DESC;FMTTYPE=text/html: <p>Talk title: “Myeloid cell-driven immunosup
 pressive feedback loops underlying susceptibility to tuberculosis.”</p><p>C
 halk talk: Monday\, February 26 at 3pm-4 in the MPRB 8101</p>
CATEGORIES:Visiting Speaker
LOCATION:McDonnell Pediatric Research Building (MPRB) MPRB 8101
GEO:38.637296;-90.265310
ORGANIZER;CN="Susan Wightman":MAILTO:wightman.susan@wustl.edu
URL;VALUE=URI:https://infectiousdiseases.wustl.edu/events/event/visiting-sp
 eaker-dmitri-kotov-phd/
END:VEVENT
BEGIN:VTIMEZONE
TZID:America/Chicago
BEGIN:STANDARD
TZOFFSETFROM:-0500
TZOFFSETTO:-0600
DTSTART:20231105T070000
TZNAME:CST
END:STANDARD
END:VTIMEZONE
END:VCALENDAR
