BEGIN:VCALENDAR
VERSION:2.0
PRODID:-//Division of Infectious Diseases//NONSGML Events//EN
CALSCALE:GREGORIAN
X-ORIGINAL-URL:https://infectiousdiseases.wustl.edu/events/
X-WR-CALDESC:Division of Infectious Diseases - Events
BEGIN:VEVENT
UID:20231214T1104Z-1702551880.2931-EO-31030-1@172.23.128.18
STATUS:CONFIRMED
DTSTAMP:20260421T015231Z
CREATED:20231212T164049Z
LAST-MODIFIED:20231212T164049Z
DTSTART;TZID=America/Chicago:20240228T080000
DTEND;TZID=America/Chicago:20240228T090000
SUMMARY: Urinary Tract Infection
DESCRIPTION: Speaker: Jeffrey Henderson\, MD\, PhD Zoom Link:
X-ALT-DESC;FMTTYPE=text/html: <p>Speaker: Jeffrey Henderson\, MD\, PhD</p><
 p><a href="https://wustl-hipaa.zoom.us/j/95234568031?pwd=Y1hlRU1WeWZNd04ySm
 tsOGpTL3Fhdz09">Zoom Link:</a></p>
CATEGORIES:ID Core Curriculum
LOCATION:Northwest Tower - Large Conference Room #15122 (15th floor)
GEO:38.634694;-90.259683
ORGANIZER;CN="Stephanie":MAILTO:smcmanus@wustl.edu
URL;VALUE=URI:https://infectiousdiseases.wustl.edu/events/event/urinary-tra
 ct-infection/
END:VEVENT
BEGIN:VTIMEZONE
TZID:America/Chicago
BEGIN:STANDARD
TZOFFSETFROM:-0500
TZOFFSETTO:-0600
DTSTART:20231105T070000
TZNAME:CST
END:STANDARD
END:VTIMEZONE
END:VCALENDAR
