BEGIN:VCALENDAR
VERSION:2.0
PRODID:-//Division of Infectious Diseases//NONSGML Events//EN
CALSCALE:GREGORIAN
X-ORIGINAL-URL:https://infectiousdiseases.wustl.edu/events/
X-WR-CALDESC:Division of Infectious Diseases - Events
BEGIN:VEVENT
UID:20231206T0032Z-1701822774.0115-EO-30989-1@172.23.128.18
STATUS:CONFIRMED
DTSTAMP:20260422T224659Z
CREATED:20231205T182138Z
LAST-MODIFIED:20231205T182138Z
DTSTART;TZID=America/Chicago:20240130T120000
DTEND;TZID=America/Chicago:20240130T130000
SUMMARY: Neuro HIV
DESCRIPTION: Speaker: Beau Ances\, MD\, PhD Zoom Link  
X-ALT-DESC;FMTTYPE=text/html: <p>Speaker: Beau Ances\, MD\, PhD</p><p><a hr
 ef="https://wustl-hipaa.zoom.us/j/97944909757?pwd=ZFlvNWNhNVJoU0hhMmlvN0hVd
 zZPQT09">Zoom Link</a></p><p> </p>
CATEGORIES:HIV &amp\; Hepatitis Series
LOCATION:Northwest Tower - Large Conference Room #15122 (15th floor)
GEO:38.634694;-90.259683
ORGANIZER;CN="Stephanie":MAILTO:smcmanus@wustl.edu
URL;VALUE=URI:https://infectiousdiseases.wustl.edu/events/event/neuro-hiv/
END:VEVENT
BEGIN:VTIMEZONE
TZID:America/Chicago
BEGIN:STANDARD
TZOFFSETFROM:-0500
TZOFFSETTO:-0600
DTSTART:20231105T070000
TZNAME:CST
END:STANDARD
END:VTIMEZONE
END:VCALENDAR
