BEGIN:VCALENDAR
VERSION:2.0
PRODID:-//Division of Infectious Diseases//NONSGML Events//EN
CALSCALE:GREGORIAN
X-ORIGINAL-URL:https://infectiousdiseases.wustl.edu/events/
X-WR-CALDESC:Division of Infectious Diseases - Events
BEGIN:VEVENT
UID:20231214T1104Z-1702551880.4119-EO-31040-1@172.23.128.18
STATUS:CONFIRMED
DTSTAMP:20260423T090914Z
CREATED:20231212T171021Z
LAST-MODIFIED:20231212T171021Z
DTSTART;TZID=America/Chicago:20240508T080000
DTEND;TZID=America/Chicago:20240508T090000
SUMMARY: Macrolides\, Clindamycin\, Tetracyclines\, TMP-SMX
DESCRIPTION: Speaker: Nigar Kirmani\, MD Zoom Link:
X-ALT-DESC;FMTTYPE=text/html: <p>Speaker: Nigar Kirmani\, MD</p><p><a href=
 "https://wustl-hipaa.zoom.us/j/95234568031?pwd=Y1hlRU1WeWZNd04ySmtsOGpTL3Fh
 dz09">Zoom Link:</a></p>
CATEGORIES:ID Core Curriculum
LOCATION:Northwest Tower - Large Conference Room #15122 (15th floor)
GEO:38.634694;-90.259683
ORGANIZER;CN="Stephanie":MAILTO:smcmanus@wustl.edu
URL;VALUE=URI:https://infectiousdiseases.wustl.edu/events/event/macrolides-
 clindamycin-tetracyclines-tmp-smx/
END:VEVENT
BEGIN:VTIMEZONE
TZID:America/Chicago
BEGIN:DAYLIGHT
TZOFFSETFROM:-0600
TZOFFSETTO:-0500
DTSTART:20240310T080000
TZNAME:CDT
END:DAYLIGHT
END:VTIMEZONE
END:VCALENDAR
