BEGIN:VCALENDAR
VERSION:2.0
PRODID:-//Division of Infectious Diseases//NONSGML Events//EN
CALSCALE:GREGORIAN
X-ORIGINAL-URL:https://infectiousdiseases.wustl.edu/events/
X-WR-CALDESC:Division of Infectious Diseases - Events
BEGIN:VEVENT
UID:20231214T1104Z-1702551880.2666-EO-31044-1@172.23.128.18
STATUS:CONFIRMED
DTSTAMP:20260424T193112Z
CREATED:20231212T181304Z
LAST-MODIFIED:20231212T181304Z
DTSTART;TZID=America/Chicago:20240215T120000
DTEND;TZID=America/Chicago:20240215T130000
SUMMARY: ID JOURNAL CLUB
DESCRIPTION: Fellow: Zanetta Chang/  Lovin George Mentor: Rachel Presti/ Je
 nnifer Philips Zoom Link:
X-ALT-DESC;FMTTYPE=text/html: <p>Fellow: Zanetta Chang/  Lovin George</p><p
 >Mentor: Rachel Presti/ Jennifer Philips</p><p><a href="https://wustl-hipaa
 .zoom.us/j/94760448787?pwd=aG5NNkpmb2NDRmxYeHcxVHl4R01zZz09">Zoom Link:</a>
 </p>
CATEGORIES:ID Journal Club
LOCATION:Northwest Tower - Large Conference Room #15122 (15th floor)
GEO:38.634694;-90.259683
ORGANIZER;CN="Stephanie":MAILTO:smcmanus@wustl.edu
URL;VALUE=URI:https://infectiousdiseases.wustl.edu/events/event/id-journal-
 club-21/
END:VEVENT
BEGIN:VTIMEZONE
TZID:America/Chicago
BEGIN:STANDARD
TZOFFSETFROM:-0500
TZOFFSETTO:-0600
DTSTART:20231105T070000
TZNAME:CST
END:STANDARD
END:VTIMEZONE
END:VCALENDAR
