BEGIN:VCALENDAR
VERSION:2.0
PRODID:-//Division of Infectious Diseases//NONSGML Events//EN
CALSCALE:GREGORIAN
X-ORIGINAL-URL:https://infectiousdiseases.wustl.edu/events/
X-WR-CALDESC:Division of Infectious Diseases - Events
BEGIN:VEVENT
UID:20231202T1932Z-1701545572.3624-EO-30957-1@172.23.128.18
STATUS:CONFIRMED
DTSTAMP:20260417T001659Z
CREATED:20231201T200135Z
LAST-MODIFIED:20231201T202057Z
DTSTART;TZID=America/Chicago:20231205T120000
DTEND;TZID=America/Chicago:20231205T130000
SUMMARY: Co-morbidities in HIV
DESCRIPTION: SPEAKER: Shashwatee Bagchi\, MD\, MSc Zoom link  
X-ALT-DESC;FMTTYPE=text/html: <p><strong>SPEAKER:</strong> Shashwatee Bagch
 i\, MD\, MSc</p><p><a href="https://wustl-hipaa.zoom.us/j/97944909757?pwd=Z
 FlvNWNhNVJoU0hhMmlvN0hVdzZPQT09"><strong>Zoom link</strong></a></p><p> </p>
CATEGORIES:HIV &amp\; Hepatitis Series
LOCATION:Northwest Tower - Large Conference Room #15122 (15th floor)
GEO:38.634694;-90.259683
ORGANIZER;CN="Stephanie":MAILTO:smcmanus@wustl.edu
URL;VALUE=URI:https://infectiousdiseases.wustl.edu/events/event/id-core-cur
 riculum-80/
END:VEVENT
BEGIN:VTIMEZONE
TZID:America/Chicago
BEGIN:STANDARD
TZOFFSETFROM:-0500
TZOFFSETTO:-0600
DTSTART:20231105T070000
TZNAME:CST
END:STANDARD
END:VTIMEZONE
END:VCALENDAR
