BEGIN:VCALENDAR
VERSION:2.0
PRODID:-//Division of Infectious Diseases//NONSGML Events//EN
CALSCALE:GREGORIAN
X-ORIGINAL-URL:https://infectiousdiseases.wustl.edu/events/
X-WR-CALDESC:Division of Infectious Diseases - Events
BEGIN:VEVENT
UID:20211105T0503Z-1636088607.9443-EO-23772-1@172.23.128.18
STATUS:CONFIRMED
DTSTAMP:20260423T070551Z
CREATED:20211028T125417Z
LAST-MODIFIED:20211028T125417Z
DTSTART;TZID=America/Chicago:20210825T080000
DTEND;TZID=America/Chicago:20210825T090000
SUMMARY: ID Core Curriculum
DESCRIPTION: Title: Bone Marrow Transplant Infections Speaker: VIRTUAL Anup
 am Pande Zoom link
X-ALT-DESC;FMTTYPE=text/html: <p><strong>Title:</strong> Bone Marrow Transp
 lant Infections</p><p><strong>Speaker:</strong> VIRTUAL Anupam Pande</p><p>
 <a href="https://wustl-hipaa.zoom.us/j/92887130002?pwd=Y3BxOEdSM1lZdXFTOHJ3
 aFE1RGZjZz09">Zoom link</a></p>
CATEGORIES:ID Core Curriculum
LOCATION:Online
GEO:38.634579;-90.263109
ORGANIZER;CN="McKinzie":MAILTO:tolliver.m@wustl.edu
URL;VALUE=URI:https://infectiousdiseases.wustl.edu/events/event/id-core-cur
 riculum-7/
END:VEVENT
BEGIN:VTIMEZONE
TZID:America/Chicago
BEGIN:DAYLIGHT
TZOFFSETFROM:-0600
TZOFFSETTO:-0500
DTSTART:20210314T080000
TZNAME:CDT
END:DAYLIGHT
END:VTIMEZONE
END:VCALENDAR
