BEGIN:VCALENDAR
VERSION:2.0
PRODID:-//Division of Infectious Diseases//NONSGML Events//EN
CALSCALE:GREGORIAN
X-ORIGINAL-URL:https://infectiousdiseases.wustl.edu/events/
X-WR-CALDESC:Division of Infectious Diseases - Events
BEGIN:VEVENT
UID:20220722T0221Z-1658456465.3282-EO-28426-1@172.23.128.18
STATUS:CONFIRMED
DTSTAMP:20260417T001413Z
CREATED:20220720T162254Z
LAST-MODIFIED:20220720T164739Z
DTSTART;TZID=America/Chicago:20230125T080000
DTEND;TZID=America/Chicago:20230125T090000
SUMMARY: ID Core Curriculum
DESCRIPTION: Title:  Global Antibiotic Resistance and Surveillance Speaker:
   Sumanth Gandra\, MD Zoom link  
X-ALT-DESC;FMTTYPE=text/html: <p><strong>Title:</strong>  Global Antibiotic
  Resistance and Surveillance</p><p><strong>Speaker:</strong>  Sumanth Gandr
 a\, MD</p><p><a href="https://wustl-hipaa.zoom.us/j/92074915609?pwd=NXkwZEZ
 aSS9lSzhqSlhKaW5TNDBVQT09">Zoom link</a></p><p> </p>
CATEGORIES:ID Core Curriculum
LOCATION:Northwest Tower - Large Conference Room #15122 (15th floor)
GEO:38.634694;-90.259683
ORGANIZER;CN="Stephanie":MAILTO:smcmanus@wustl.edu
URL;VALUE=URI:https://infectiousdiseases.wustl.edu/events/event/id-core-cur
 riculum-65/
END:VEVENT
BEGIN:VTIMEZONE
TZID:America/Chicago
BEGIN:STANDARD
TZOFFSETFROM:-0500
TZOFFSETTO:-0600
DTSTART:20221106T070000
TZNAME:CST
END:STANDARD
END:VTIMEZONE
END:VCALENDAR
