BEGIN:VCALENDAR
VERSION:2.0
PRODID:-//Division of Infectious Diseases//NONSGML Events//EN
CALSCALE:GREGORIAN
X-ORIGINAL-URL:https://infectiousdiseases.wustl.edu/events/
X-WR-CALDESC:Division of Infectious Diseases - Events
BEGIN:VEVENT
UID:20220722T0222Z-1658456528.7703-EO-28423-1@172.23.128.18
STATUS:CONFIRMED
DTSTAMP:20260417T001223Z
CREATED:20220720T155531Z
LAST-MODIFIED:20220720T155531Z
DTSTART;TZID=America/Chicago:20230118T080000
DTEND;TZID=America/Chicago:20230118T090000
SUMMARY: ID Core Curriculum
DESCRIPTION: Title:  Osteomyelitis (including vertebral) and Septic Joint i
 nfections Speaker:  Kevin Hsueh\, MD Zoom link 
X-ALT-DESC;FMTTYPE=text/html: <p><strong>Title:</strong>  Osteomyelitis (in
 cluding vertebral) and Septic Joint infections</p><p><strong>Speaker: </str
 ong> Kevin Hsueh\, MD</p><p><a href="https://wustl-hipaa.zoom.us/j/92074915
 609?pwd=NXkwZEZaSS9lSzhqSlhKaW5TNDBVQT09">Zoom link </a></p>
CATEGORIES:ID Core Curriculum
LOCATION:Northwest Tower - Large Conference Room #15122 (15th floor)
GEO:38.634694;-90.259683
ORGANIZER;CN="Stephanie":MAILTO:smcmanus@wustl.edu
URL;VALUE=URI:https://infectiousdiseases.wustl.edu/events/event/id-core-cur
 riculum-64/
END:VEVENT
BEGIN:VTIMEZONE
TZID:America/Chicago
BEGIN:STANDARD
TZOFFSETFROM:-0500
TZOFFSETTO:-0600
DTSTART:20221106T070000
TZNAME:CST
END:STANDARD
END:VTIMEZONE
END:VCALENDAR
