BEGIN:VCALENDAR
VERSION:2.0
PRODID:-//Division of Infectious Diseases//NONSGML Events//EN
CALSCALE:GREGORIAN
X-ORIGINAL-URL:https://infectiousdiseases.wustl.edu/events/
X-WR-CALDESC:Division of Infectious Diseases - Events
BEGIN:VEVENT
UID:20220722T0212Z-1658455931.992-EO-28375-1@172.23.128.18
STATUS:CONFIRMED
DTSTAMP:20260417T001708Z
CREATED:20220720T150001Z
LAST-MODIFIED:20220720T150001Z
DTSTART;TZID=America/Chicago:20220928T080000
DTEND;TZID=America/Chicago:20220928T090000
SUMMARY: ID Core Curriculum
DESCRIPTION: Title:  Quinolones\, Aminoglycosides\, Metronidazole Speaker: 
  Nigar Kirmani\, MD Zoom link 
X-ALT-DESC;FMTTYPE=text/html: <p><strong>Title: </strong> Quinolones\, Amin
 oglycosides\, Metronidazole</p><p><strong>Speaker: </strong> Nigar Kirmani\
 , MD</p><p><a href="https://wustl-hipaa.zoom.us/j/92074915609?pwd=NXkwZEZaS
 S9lSzhqSlhKaW5TNDBVQT09">Zoom link </a></p>
CATEGORIES:ID Core Curriculum
LOCATION:Northwest Tower - Large Conference Room #15122 (15th floor)
GEO:38.634694;-90.259683
ORGANIZER;CN="Stephanie":MAILTO:smcmanus@wustl.edu
URL;VALUE=URI:https://infectiousdiseases.wustl.edu/events/event/id-core-cur
 riculum-52/
END:VEVENT
BEGIN:VTIMEZONE
TZID:America/Chicago
BEGIN:DAYLIGHT
TZOFFSETFROM:-0600
TZOFFSETTO:-0500
DTSTART:20220313T080000
TZNAME:CDT
END:DAYLIGHT
END:VTIMEZONE
END:VCALENDAR
