BEGIN:VCALENDAR
VERSION:2.0
PRODID:-//Division of Infectious Diseases//NONSGML Events//EN
CALSCALE:GREGORIAN
X-ORIGINAL-URL:https://infectiousdiseases.wustl.edu/events/
X-WR-CALDESC:Division of Infectious Diseases - Events
BEGIN:VEVENT
UID:20220722T0210Z-1658455838.306-EO-28327-1@172.23.128.18
STATUS:CONFIRMED
DTSTAMP:20260417T001543Z
CREATED:20220720T142751Z
LAST-MODIFIED:20220720T142924Z
DTSTART;TZID=America/Chicago:20220713T080000
DTEND;TZID=America/Chicago:20220713T090000
SUMMARY: ID Core Curriculum
DESCRIPTION: Title: Overview of Bacteriology Speaker: Carey-Ann Burnham\, M
 D Zoom link
X-ALT-DESC;FMTTYPE=text/html: <p><strong>Title: </strong>Overview of Bacter
 iology</p><p><strong>Speaker: </strong>Carey-Ann Burnham\, MD</p><p><a href
 ="https://wustl-hipaa.zoom.us/j/92074915609?pwd=NXkwZEZaSS9lSzhqSlhKaW5TNDB
 VQT09">Zoom link</a></p>
CATEGORIES:ID Core Curriculum
LOCATION:Northwest Tower - Large Conference Room #15122 (15th floor)
GEO:38.634694;-90.259683
ORGANIZER;CN="Stephanie":MAILTO:smcmanus@wustl.edu
URL;VALUE=URI:https://infectiousdiseases.wustl.edu/events/event/id-core-cur
 riculum-41/
END:VEVENT
BEGIN:VTIMEZONE
TZID:America/Chicago
BEGIN:DAYLIGHT
TZOFFSETFROM:-0600
TZOFFSETTO:-0500
DTSTART:20220313T080000
TZNAME:CDT
END:DAYLIGHT
END:VTIMEZONE
END:VCALENDAR
