BEGIN:VCALENDAR
VERSION:2.0
PRODID:-//Division of Infectious Diseases//NONSGML Events//EN
CALSCALE:GREGORIAN
X-ORIGINAL-URL:https://infectiousdiseases.wustl.edu/events/
X-WR-CALDESC:Division of Infectious Diseases - Events
BEGIN:VEVENT
UID:20211105T0503Z-1636088608.1291-EO-23788-1@172.23.128.18
STATUS:CONFIRMED
DTSTAMP:20260417T001755Z
CREATED:20211028T130928Z
LAST-MODIFIED:20211028T130928Z
DTSTART;TZID=America/Chicago:20220112T080000
DTEND;TZID=America/Chicago:20220112T090000
SUMMARY: ID Core Curriculum
DESCRIPTION: Title: Central Line Associated Bloodstream Infection Speaker: 
 David Warren Zoom link
X-ALT-DESC;FMTTYPE=text/html: <p><strong>Title:</strong> Central Line Assoc
 iated Bloodstream Infection</p><p><strong>Speaker:</strong> David Warren</p
 ><p><a href="https://wustl-hipaa.zoom.us/j/92887130002?pwd=Y3BxOEdSM1lZdXFT
 OHJ3aFE1RGZjZz09">Zoom link</a></p>
CATEGORIES:ID Core Curriculum
LOCATION:Northwest Tower - Large Conference Room #15122 (15th floor)
GEO:38.634694;-90.259683
ORGANIZER;CN="McKinzie":MAILTO:tolliver.m@wustl.edu
URL;VALUE=URI:https://infectiousdiseases.wustl.edu/events/event/id-core-cur
 riculum-23/
END:VEVENT
BEGIN:VTIMEZONE
TZID:America/Chicago
BEGIN:STANDARD
TZOFFSETFROM:-0500
TZOFFSETTO:-0600
DTSTART:20211107T070000
TZNAME:CST
END:STANDARD
END:VTIMEZONE
END:VCALENDAR
