BEGIN:VCALENDAR
VERSION:2.0
PRODID:-//Division of Infectious Diseases//NONSGML Events//EN
CALSCALE:GREGORIAN
X-ORIGINAL-URL:https://infectiousdiseases.wustl.edu/events/
X-WR-CALDESC:Division of Infectious Diseases - Events
BEGIN:VEVENT
UID:20211105T0503Z-1636088607.9981-EO-23776-1@172.23.128.18
STATUS:CONFIRMED
DTSTAMP:20260420T140543Z
CREATED:20211028T125750Z
LAST-MODIFIED:20211028T125750Z
DTSTART;TZID=America/Chicago:20210922T080000
DTEND;TZID=America/Chicago:20210922T090000
SUMMARY: ID Core Curriculum
DESCRIPTION: Title: Infections in People Who Use Intravenous Drugs Speaker:
  Laura Marks Zoom link
X-ALT-DESC;FMTTYPE=text/html: <p><strong>Title:</strong> Infections in Peop
 le Who Use Intravenous Drugs</p><p><strong>Speaker:</strong> Laura Marks</p
 ><p><a href="https://wustl-hipaa.zoom.us/j/92887130002?pwd=Y3BxOEdSM1lZdXFT
 OHJ3aFE1RGZjZz09">Zoom link</a></p>
CATEGORIES:ID Core Curriculum
LOCATION:Northwest Tower - Large Conference Room #15122 (15th floor)
GEO:38.634694;-90.259683
ORGANIZER;CN="McKinzie":MAILTO:tolliver.m@wustl.edu
URL;VALUE=URI:https://infectiousdiseases.wustl.edu/events/event/id-core-cur
 riculum-11/
END:VEVENT
BEGIN:VTIMEZONE
TZID:America/Chicago
BEGIN:DAYLIGHT
TZOFFSETFROM:-0600
TZOFFSETTO:-0500
DTSTART:20210314T080000
TZNAME:CDT
END:DAYLIGHT
END:VTIMEZONE
END:VCALENDAR
