BEGIN:VCALENDAR
VERSION:2.0
PRODID:-//Division of Infectious Diseases//NONSGML Events//EN
CALSCALE:GREGORIAN
X-ORIGINAL-URL:https://infectiousdiseases.wustl.edu/events/
X-WR-CALDESC:Division of Infectious Diseases - Events
BEGIN:VEVENT
UID:20231206T0032Z-1701822773.9864-EO-30985-1@172.23.128.18
STATUS:CONFIRMED
DTSTAMP:20260417T000504Z
CREATED:20231205T180422Z
LAST-MODIFIED:20231205T180549Z
DTSTART;TZID=America/Chicago:20240102T120000
DTEND;TZID=America/Chicago:20240102T130000
SUMMARY: HOLIDAY
X-ALT-DESC;FMTTYPE=text/html: 
CATEGORIES:HIV &amp\; Hepatitis Series
ORGANIZER;CN="Stephanie":MAILTO:smcmanus@wustl.edu
URL;VALUE=URI:https://infectiousdiseases.wustl.edu/events/event/holiday-2/
END:VEVENT
BEGIN:VTIMEZONE
TZID:America/Chicago
BEGIN:STANDARD
TZOFFSETFROM:-0500
TZOFFSETTO:-0600
DTSTART:20231105T070000
TZNAME:CST
END:STANDARD
END:VTIMEZONE
END:VCALENDAR
