BEGIN:VCALENDAR
VERSION:2.0
PRODID:-//Division of Infectious Diseases//NONSGML Events//EN
CALSCALE:GREGORIAN
X-ORIGINAL-URL:https://infectiousdiseases.wustl.edu/events/
X-WR-CALDESC:Division of Infectious Diseases - Events
BEGIN:VEVENT
UID:20231207T1002Z-1701943330.0172-EO-31009-1@172.23.128.18
STATUS:CONFIRMED
DTSTAMP:20260417T003918Z
CREATED:20231206T182513Z
LAST-MODIFIED:20231206T182513Z
DTSTART;TZID=America/Chicago:20240521T120000
DTEND;TZID=America/Chicago:20240521T130000
SUMMARY: HIV Jeopardy
DESCRIPTION: Speaker: Nicolo Cabrera\, MD Zoom Link
X-ALT-DESC;FMTTYPE=text/html: <p>Speaker: Nicolo Cabrera\, MD</p><p><a href
 ="https://wustl-hipaa.zoom.us/j/97944909757?pwd=ZFlvNWNhNVJoU0hhMmlvN0hVdzZ
 PQT09">Zoom Link</a></p>
CATEGORIES:HIV &amp\; Hepatitis Series
LOCATION:Northwest Tower - Large Conference Room #15122 (15th floor)
GEO:38.634694;-90.259683
ORGANIZER;CN="Stephanie":MAILTO:smcmanus@wustl.edu
URL;VALUE=URI:https://infectiousdiseases.wustl.edu/events/event/hiv-jeopard
 y/
END:VEVENT
BEGIN:VTIMEZONE
TZID:America/Chicago
BEGIN:DAYLIGHT
TZOFFSETFROM:-0600
TZOFFSETTO:-0500
DTSTART:20240310T080000
TZNAME:CDT
END:DAYLIGHT
END:VTIMEZONE
END:VCALENDAR
