BEGIN:VCALENDAR
VERSION:2.0
PRODID:-//Division of Infectious Diseases//NONSGML Events//EN
CALSCALE:GREGORIAN
X-ORIGINAL-URL:https://infectiousdiseases.wustl.edu/events/
X-WR-CALDESC:Division of Infectious Diseases - Events
BEGIN:VEVENT
UID:20211105T0503Z-1636088607.9216-EO-23727-1@172.23.128.18
STATUS:CONFIRMED
DTSTAMP:20260417T004635Z
CREATED:20211027T204629Z
LAST-MODIFIED:20211027T204711Z
DTSTART;TZID=America/Chicago:20210803T120000
DTEND;TZID=America/Chicago:20210803T130000
SUMMARY: HIV Core Curriculum
DESCRIPTION: Name of the Talk: Overview of HIV Speaker: William Powderly *F
 or journal club please discuss choice of article with mentoring attending. 
 Topics can be switched or substituted. ** Ideal cases for case conference a
 re active cases that would benefit from discussion and input from the whole
  team. These cases should take priority over the suggested […]
X-ALT-DESC;FMTTYPE=text/html: <p><strong>Name of the Talk: </strong>Overvie
 w of HIV</p><p><strong>Speaker: </strong>William Powderly</p><p><em>*For jo
 urnal club please discuss choice of article with mentoring attending. Topic
 s can be switched or substituted.</em></p><p><em>** Ideal cases for case co
 nference are active cases that would benefit from discussion and input from
  the whole team. These cases should take priority over the suggested case c
 onference topic if available.</em></p>
CATEGORIES:HIV &amp\; Hepatitis Series
LOCATION:Northwest Tower - Large Conference Room #15122 (15th floor)
GEO:38.634694;-90.259683
ORGANIZER;CN="McKinzie":MAILTO:tolliver.m@wustl.edu
URL;VALUE=URI:https://infectiousdiseases.wustl.edu/events/event/hiv-core-cu
 rriculum/
END:VEVENT
BEGIN:VTIMEZONE
TZID:America/Chicago
BEGIN:DAYLIGHT
TZOFFSETFROM:-0600
TZOFFSETTO:-0500
DTSTART:20210314T080000
TZNAME:CDT
END:DAYLIGHT
END:VTIMEZONE
END:VCALENDAR
