BEGIN:VCALENDAR
VERSION:2.0
PRODID:-//Division of Infectious Diseases//NONSGML Events//EN
CALSCALE:GREGORIAN
X-ORIGINAL-URL:https://infectiousdiseases.wustl.edu/events/
X-WR-CALDESC:Division of Infectious Diseases - Events
BEGIN:VEVENT
UID:20220722T0224Z-1658456690.6075-EO-28606-1@172.23.128.18
STATUS:CONFIRMED
DTSTAMP:20260423T000605Z
CREATED:20220720T190436Z
LAST-MODIFIED:20220720T190436Z
DTSTART;TZID=America/Chicago:20230516T120000
DTEND;TZID=America/Chicago:20230516T130000
SUMMARY: HIV Core Curriculum
DESCRIPTION: Title:  Journal Club (comorbidities including renal\, CVD\, ne
 uro\, hep\, etc) Speakers:  Zanetta Chang/Mohamed Bohlega Zoom link 
X-ALT-DESC;FMTTYPE=text/html: <p><strong>Title: </strong> Journal Club (com
 orbidities including renal\, CVD\, neuro\, hep\, etc)</p><p><strong>Speaker
 s:</strong>  Zanetta Chang/Mohamed Bohlega</p><p><a href="https://wustl-hip
 aa.zoom.us/j/92291544144?pwd=TGhxQTgyMnc0VnVTTjJON0VOeStuUT09">Zoom link </
 a></p>
CATEGORIES:HIV &amp\; Hepatitis Series
LOCATION:Northwest Tower - Large Conference Room #15122 (15th floor)
GEO:38.634694;-90.259683
ORGANIZER;CN="Stephanie":MAILTO:smcmanus@wustl.edu
URL;VALUE=URI:https://infectiousdiseases.wustl.edu/events/event/hiv-core-cu
 rriculum-77/
END:VEVENT
BEGIN:VTIMEZONE
TZID:America/Chicago
BEGIN:DAYLIGHT
TZOFFSETFROM:-0600
TZOFFSETTO:-0500
DTSTART:20230312T080000
TZNAME:CDT
END:DAYLIGHT
END:VTIMEZONE
END:VCALENDAR
