BEGIN:VCALENDAR
VERSION:2.0
PRODID:-//Division of Infectious Diseases//NONSGML Events//EN
CALSCALE:GREGORIAN
X-ORIGINAL-URL:https://infectiousdiseases.wustl.edu/events/
X-WR-CALDESC:Division of Infectious Diseases - Events
BEGIN:VEVENT
UID:20220722T0219Z-1658456351.0955-EO-28600-1@172.23.128.18
STATUS:CONFIRMED
DTSTAMP:20260422T224659Z
CREATED:20220720T190136Z
LAST-MODIFIED:20220720T190136Z
DTSTART;TZID=America/Chicago:20230502T120000
DTEND;TZID=America/Chicago:20230502T130000
SUMMARY: HIV Core Curriculum
DESCRIPTION: Title:  Mycobacterium and HIV (case based) Speaker: Carlos Mej
 ia\, MD Zoom link 
X-ALT-DESC;FMTTYPE=text/html: <p><strong>Title: </strong> Mycobacterium and
  HIV (case based)</p><p><strong>Speaker:</strong> Carlos Mejia\, MD</p><p><
 a href="https://wustl-hipaa.zoom.us/j/92291544144?pwd=TGhxQTgyMnc0VnVTTjJON
 0VOeStuUT09">Zoom link </a></p>
CATEGORIES:HIV &amp\; Hepatitis Series
LOCATION:Northwest Tower - Large Conference Room #15122 (15th floor)
GEO:38.634694;-90.259683
ORGANIZER;CN="Stephanie":MAILTO:smcmanus@wustl.edu
URL;VALUE=URI:https://infectiousdiseases.wustl.edu/events/event/hiv-core-cu
 rriculum-75/
END:VEVENT
BEGIN:VTIMEZONE
TZID:America/Chicago
BEGIN:DAYLIGHT
TZOFFSETFROM:-0600
TZOFFSETTO:-0500
DTSTART:20230312T080000
TZNAME:CDT
END:DAYLIGHT
END:VTIMEZONE
END:VCALENDAR
