BEGIN:VCALENDAR
VERSION:2.0
PRODID:-//Division of Infectious Diseases//NONSGML Events//EN
CALSCALE:GREGORIAN
X-ORIGINAL-URL:https://infectiousdiseases.wustl.edu/events/
X-WR-CALDESC:Division of Infectious Diseases - Events
BEGIN:VEVENT
UID:20220722T0223Z-1658456637.0515-EO-28582-1@172.23.128.18
STATUS:CONFIRMED
DTSTAMP:20260422T174014Z
CREATED:20220720T185049Z
LAST-MODIFIED:20220720T185049Z
DTSTART;TZID=America/Chicago:20230321T120000
DTEND;TZID=America/Chicago:20230321T130000
SUMMARY: HIV Core Curriculum
DESCRIPTION: Title:  Case Conference (Hepatitis) Speakers:  Zanetta Chang/M
 ohamed Bohlega Zoom link 
X-ALT-DESC;FMTTYPE=text/html: <p><strong><span style="font-size: 1.125rem\;
 ">Title:</span></strong><span style="font-size: 1.125rem\;"><strong> </stro
 ng> Case Conference (Hepatitis)</span></p><p><strong>Speakers: </strong> Za
 netta Chang/Mohamed Bohlega</p><p><a href="https://wustl-hipaa.zoom.us/j/92
 291544144?pwd=TGhxQTgyMnc0VnVTTjJON0VOeStuUT09">Zoom link </a></p>
CATEGORIES:HIV &amp\; Hepatitis Series
LOCATION:Northwest Tower - Large Conference Room #15122 (15th floor)
GEO:38.634694;-90.259683
ORGANIZER;CN="Stephanie":MAILTO:smcmanus@wustl.edu
URL;VALUE=URI:https://infectiousdiseases.wustl.edu/events/event/hiv-core-cu
 rriculum-69/
END:VEVENT
BEGIN:VTIMEZONE
TZID:America/Chicago
BEGIN:DAYLIGHT
TZOFFSETFROM:-0600
TZOFFSETTO:-0500
DTSTART:20230312T080000
TZNAME:CDT
END:DAYLIGHT
END:VTIMEZONE
END:VCALENDAR
