BEGIN:VCALENDAR
VERSION:2.0
PRODID:-//Division of Infectious Diseases//NONSGML Events//EN
CALSCALE:GREGORIAN
X-ORIGINAL-URL:https://infectiousdiseases.wustl.edu/events/
X-WR-CALDESC:Division of Infectious Diseases - Events
BEGIN:VEVENT
UID:20220722T0224Z-1658456662.453-EO-28570-1@172.23.128.18
STATUS:CONFIRMED
DTSTAMP:20260422T160729Z
CREATED:20220720T184358Z
LAST-MODIFIED:20220720T184358Z
DTSTART;TZID=America/Chicago:20230214T130000
DTEND;TZID=America/Chicago:20230214T140000
SUMMARY: HIV Core Curriculum
DESCRIPTION: Title:  How to write a paper Speaker:  Andrej Spec\, MD Zoom l
 ink 
X-ALT-DESC;FMTTYPE=text/html: <p><strong>Title:</strong>  How to write a pa
 per</p><p><strong>Speaker: </strong> Andrej Spec\, MD</p><p><a href="https:
 //wustl-hipaa.zoom.us/j/92291544144?pwd=TGhxQTgyMnc0VnVTTjJON0VOeStuUT09">Z
 oom link </a></p>
CATEGORIES:HIV &amp\; Hepatitis Series
LOCATION:Northwest Tower - Large Conference Room #15122 (15th floor)
GEO:38.634694;-90.259683
ORGANIZER;CN="Stephanie":MAILTO:smcmanus@wustl.edu
URL;VALUE=URI:https://infectiousdiseases.wustl.edu/events/event/hiv-core-cu
 rriculum-65/
END:VEVENT
BEGIN:VTIMEZONE
TZID:America/Chicago
BEGIN:STANDARD
TZOFFSETFROM:-0500
TZOFFSETTO:-0600
DTSTART:20221106T070000
TZNAME:CST
END:STANDARD
END:VTIMEZONE
END:VCALENDAR
