BEGIN:VCALENDAR
VERSION:2.0
PRODID:-//Division of Infectious Diseases//NONSGML Events//EN
CALSCALE:GREGORIAN
X-ORIGINAL-URL:https://infectiousdiseases.wustl.edu/events/
X-WR-CALDESC:Division of Infectious Diseases - Events
BEGIN:VEVENT
UID:20220722T0216Z-1658456187.049-EO-28558-1@172.23.128.18
STATUS:CONFIRMED
DTSTAMP:20260422T171912Z
CREATED:20220720T182247Z
LAST-MODIFIED:20220720T182247Z
DTSTART;TZID=America/Chicago:20230131T120000
DTEND;TZID=America/Chicago:20230131T130000
SUMMARY: HIV Core Curriculum
DESCRIPTION: Title:  Journal Club (Social determinants of health in HIV) Sp
 eakers:  Lovin George/Donald Hong Zoom link 
X-ALT-DESC;FMTTYPE=text/html: <p><strong>Title:</strong>  Journal Club (Soc
 ial determinants of health in HIV)</p><p><strong>Speakers: </strong> Lovin 
 George/Donald Hong</p><p><a href="https://wustl-hipaa.zoom.us/j/92291544144
 ?pwd=TGhxQTgyMnc0VnVTTjJON0VOeStuUT09">Zoom link </a></p>
CATEGORIES:HIV &amp\; Hepatitis Series
LOCATION:Northwest Tower - Large Conference Room #15122 (15th floor)
GEO:38.634694;-90.259683
ORGANIZER;CN="Stephanie":MAILTO:smcmanus@wustl.edu
URL;VALUE=URI:https://infectiousdiseases.wustl.edu/events/event/hiv-core-cu
 rriculum-63/
END:VEVENT
BEGIN:VTIMEZONE
TZID:America/Chicago
BEGIN:STANDARD
TZOFFSETFROM:-0500
TZOFFSETTO:-0600
DTSTART:20221106T070000
TZNAME:CST
END:STANDARD
END:VTIMEZONE
END:VCALENDAR
