BEGIN:VCALENDAR
VERSION:2.0
PRODID:-//Division of Infectious Diseases//NONSGML Events//EN
CALSCALE:GREGORIAN
X-ORIGINAL-URL:https://infectiousdiseases.wustl.edu/events/
X-WR-CALDESC:Division of Infectious Diseases - Events
BEGIN:VEVENT
UID:20220722T0224Z-1658456679.4973-EO-28549-1@172.23.128.18
STATUS:CONFIRMED
DTSTAMP:20260423T212359Z
CREATED:20220720T181811Z
LAST-MODIFIED:20220720T181811Z
DTSTART;TZID=America/Chicago:20230110T120000
DTEND;TZID=America/Chicago:20230110T130000
SUMMARY: HIV Core Curriculum
DESCRIPTION: Title:  Trauma Informed and Gender Affirming Care Speaker:  Ju
 lia Lopez\, MD Zoom link 
X-ALT-DESC;FMTTYPE=text/html: <p><strong>Title: </strong> Trauma Informed a
 nd Gender Affirming Care</p><p><strong>Speaker:</strong>  Julia Lopez\, MD<
 /p><p><a href="https://wustl-hipaa.zoom.us/j/92291544144?pwd=TGhxQTgyMnc0Vn
 VTTjJON0VOeStuUT09">Zoom link </a></p>
CATEGORIES:HIV &amp\; Hepatitis Series
LOCATION:Northwest Tower - Large Conference Room #15122 (15th floor)
GEO:38.634694;-90.259683
ORGANIZER;CN="Stephanie":MAILTO:smcmanus@wustl.edu
URL;VALUE=URI:https://infectiousdiseases.wustl.edu/events/event/hiv-core-cu
 rriculum-60/
END:VEVENT
BEGIN:VTIMEZONE
TZID:America/Chicago
BEGIN:STANDARD
TZOFFSETFROM:-0500
TZOFFSETTO:-0600
DTSTART:20221106T070000
TZNAME:CST
END:STANDARD
END:VTIMEZONE
END:VCALENDAR
