BEGIN:VCALENDAR
VERSION:2.0
PRODID:-//Division of Infectious Diseases//NONSGML Events//EN
CALSCALE:GREGORIAN
X-ORIGINAL-URL:https://infectiousdiseases.wustl.edu/events/
X-WR-CALDESC:Division of Infectious Diseases - Events
BEGIN:VEVENT
UID:20211105T0503Z-1636088607.9544-EO-23732-1@172.23.128.18
STATUS:CONFIRMED
DTSTAMP:20260423T113159Z
CREATED:20211027T205602Z
LAST-MODIFIED:20211027T205602Z
DTSTART;TZID=America/Chicago:20210907T120000
DTEND;TZID=America/Chicago:20210907T130000
SUMMARY: HIV Core Curriculum
DESCRIPTION: Name of the Talk: Sexual History Taking Speaker: Joseph Cherab
 ie * For journal club please discuss choice of article with mentoring atten
 ding. Topics can be switched or substituted. ** Ideal cases for case confer
 ence are active cases that would benefit from discussion and input from the
  whole team. These cases should take priority over the […]
X-ALT-DESC;FMTTYPE=text/html: <p><strong>Name of the Talk:</strong> Sexual 
 History Taking</p><p><strong>Speaker:</strong> Joseph Cherabie</p><p><em>* 
 For journal club please discuss choice of article with mentoring attending.
  Topics can be switched or substituted.</em></p><p><em>** Ideal cases for c
 ase conference are active cases that would benefit from discussion and inpu
 t from the whole team. These cases should take priority over the suggested 
 case conference topic if available.</em></p>
CATEGORIES:HIV &amp\; Hepatitis Series
LOCATION:Northwest Tower - Large Conference Room #15122 (15th floor)
GEO:38.634694;-90.259683
ORGANIZER;CN="McKinzie":MAILTO:tolliver.m@wustl.edu
URL;VALUE=URI:https://infectiousdiseases.wustl.edu/events/event/hiv-core-cu
 rriculum-6/
END:VEVENT
BEGIN:VTIMEZONE
TZID:America/Chicago
BEGIN:DAYLIGHT
TZOFFSETFROM:-0600
TZOFFSETTO:-0500
DTSTART:20210314T080000
TZNAME:CDT
END:DAYLIGHT
END:VTIMEZONE
END:VCALENDAR
