BEGIN:VCALENDAR
VERSION:2.0
PRODID:-//Division of Infectious Diseases//NONSGML Events//EN
CALSCALE:GREGORIAN
X-ORIGINAL-URL:https://infectiousdiseases.wustl.edu/events/
X-WR-CALDESC:Division of Infectious Diseases - Events
BEGIN:VEVENT
UID:20220722T0223Z-1658456613.685-EO-28525-1@172.23.128.18
STATUS:CONFIRMED
DTSTAMP:20260422T224836Z
CREATED:20220720T180338Z
LAST-MODIFIED:20220720T180338Z
DTSTART;TZID=America/Chicago:20221108T120000
DTEND;TZID=America/Chicago:20221108T130000
SUMMARY: HIV Core Curriculum
DESCRIPTION: Title:  Journal Club (Advances in treatment or prevention) Spe
 akers: Patrick Ching/David Olafsson Zoom link 
X-ALT-DESC;FMTTYPE=text/html: <p><strong>Title:</strong>  Journal Club (Adv
 ances in treatment or prevention)</p><p><strong>Speakers:</strong> Patrick 
 Ching/David Olafsson</p><p><a href="https://wustl-hipaa.zoom.us/j/922915441
 44?pwd=TGhxQTgyMnc0VnVTTjJON0VOeStuUT09">Zoom link </a></p>
CATEGORIES:HIV &amp\; Hepatitis Series
LOCATION:Northwest Tower - Large Conference Room #15122 (15th floor)
GEO:38.634694;-90.259683
ORGANIZER;CN="Stephanie":MAILTO:smcmanus@wustl.edu
URL;VALUE=URI:https://infectiousdiseases.wustl.edu/events/event/hiv-core-cu
 rriculum-53/
END:VEVENT
BEGIN:VTIMEZONE
TZID:America/Chicago
BEGIN:STANDARD
TZOFFSETFROM:-0500
TZOFFSETTO:-0600
DTSTART:20221106T070000
TZNAME:CST
END:STANDARD
END:VTIMEZONE
END:VCALENDAR
