BEGIN:VCALENDAR
VERSION:2.0
PRODID:-//Division of Infectious Diseases//NONSGML Events//EN
CALSCALE:GREGORIAN
X-ORIGINAL-URL:https://infectiousdiseases.wustl.edu/events/
X-WR-CALDESC:Division of Infectious Diseases - Events
BEGIN:VEVENT
UID:20220722T0226Z-1658456790.1889-EO-28522-1@172.23.128.18
STATUS:CONFIRMED
DTSTAMP:20260422T222646Z
CREATED:20220720T180208Z
LAST-MODIFIED:20220720T180208Z
DTSTART;TZID=America/Chicago:20221101T120000
DTEND;TZID=America/Chicago:20221101T130000
SUMMARY: HIV Core Curriculum
DESCRIPTION: Title:  Transgender Medicine Speaker:  Hilary Reno\, MD Zoom l
 ink
X-ALT-DESC;FMTTYPE=text/html: <p><strong>Title: </strong> Transgender Medic
 ine</p><p><strong>Speaker: </strong> Hilary Reno\, MD</p><p><a href="https:
 //wustl-hipaa.zoom.us/j/92291544144?pwd=TGhxQTgyMnc0VnVTTjJON0VOeStuUT09">Z
 oom link</a></p>
CATEGORIES:HIV &amp\; Hepatitis Series
LOCATION:Northwest Tower - Large Conference Room #15122 (15th floor)
GEO:38.634694;-90.259683
ORGANIZER;CN="Stephanie":MAILTO:smcmanus@wustl.edu
URL;VALUE=URI:https://infectiousdiseases.wustl.edu/events/event/hiv-core-cu
 rriculum-52/
END:VEVENT
BEGIN:VTIMEZONE
TZID:America/Chicago
BEGIN:DAYLIGHT
TZOFFSETFROM:-0600
TZOFFSETTO:-0500
DTSTART:20220313T080000
TZNAME:CDT
END:DAYLIGHT
END:VTIMEZONE
END:VCALENDAR
