BEGIN:VCALENDAR
VERSION:2.0
PRODID:-//Division of Infectious Diseases//NONSGML Events//EN
CALSCALE:GREGORIAN
X-ORIGINAL-URL:https://infectiousdiseases.wustl.edu/events/
X-WR-CALDESC:Division of Infectious Diseases - Events
BEGIN:VEVENT
UID:20220722T0221Z-1658456513.6664-EO-28501-1@172.23.128.18
STATUS:CONFIRMED
DTSTAMP:20260422T203318Z
CREATED:20220720T173410Z
LAST-MODIFIED:20220720T173410Z
DTSTART;TZID=America/Chicago:20220906T120000
DTEND;TZID=America/Chicago:20220906T130000
SUMMARY: HIV Core Curriculum
DESCRIPTION: Title:  HIV Resistance (case based) Speaker:  Alexandria Garav
 aglia-Wilson\, PharmD Zoom link
X-ALT-DESC;FMTTYPE=text/html: <p><strong>Title:</strong>  HIV Resistance (c
 ase based)</p><p><strong>Speaker:</strong>  Alexandria Garavaglia-Wilson\, 
 PharmD</p><p><a href="https://wustl-hipaa.zoom.us/j/92291544144?pwd=TGhxQTg
 yMnc0VnVTTjJON0VOeStuUT09">Zoom link</a></p>
CATEGORIES:HIV &amp\; Hepatitis Series
LOCATION:Northwest Tower - Large Conference Room #15122 (15th floor)
GEO:38.634694;-90.259683
ORGANIZER;CN="Stephanie":MAILTO:smcmanus@wustl.edu
URL;VALUE=URI:https://infectiousdiseases.wustl.edu/events/event/hiv-core-cu
 rriculum-45/
END:VEVENT
BEGIN:VTIMEZONE
TZID:America/Chicago
BEGIN:DAYLIGHT
TZOFFSETFROM:-0600
TZOFFSETTO:-0500
DTSTART:20220313T080000
TZNAME:CDT
END:DAYLIGHT
END:VTIMEZONE
END:VCALENDAR
