BEGIN:VCALENDAR
VERSION:2.0
PRODID:-//Division of Infectious Diseases//NONSGML Events//EN
CALSCALE:GREGORIAN
X-ORIGINAL-URL:https://infectiousdiseases.wustl.edu/events/
X-WR-CALDESC:Division of Infectious Diseases - Events
BEGIN:VEVENT
UID:20220722T0223Z-1658456617.7734-EO-28489-1@172.23.128.18
STATUS:CONFIRMED
DTSTAMP:20260422T123327Z
CREATED:20220720T172329Z
LAST-MODIFIED:20220720T172329Z
DTSTART;TZID=America/Chicago:20220809T120000
DTEND;TZID=America/Chicago:20220809T130000
SUMMARY: HIV Core Curriculum
DESCRIPTION: Title:  Primary Care in HIV and Clinic/Case Management Speaker
 s: E.P. Barrette\, MD/Tina Markovich Zoom link 
X-ALT-DESC;FMTTYPE=text/html: <p><strong>Title:</strong>  Primary Care in H
 IV and Clinic/Case Management</p><p><strong>Speakers:</strong> E.P. Barrett
 e\, MD/Tina Markovich</p><p><a href="https://wustl-hipaa.zoom.us/j/92291544
 144?pwd=TGhxQTgyMnc0VnVTTjJON0VOeStuUT09">Zoom link </a></p>
CATEGORIES:HIV &amp\; Hepatitis Series
LOCATION:Northwest Tower - Large Conference Room #15122 (15th floor)
GEO:38.634694;-90.259683
ORGANIZER;CN="Stephanie":MAILTO:smcmanus@wustl.edu
URL;VALUE=URI:https://infectiousdiseases.wustl.edu/events/event/hiv-core-cu
 rriculum-41/
END:VEVENT
BEGIN:VTIMEZONE
TZID:America/Chicago
BEGIN:DAYLIGHT
TZOFFSETFROM:-0600
TZOFFSETTO:-0500
DTSTART:20220313T080000
TZNAME:CDT
END:DAYLIGHT
END:VTIMEZONE
END:VCALENDAR
