BEGIN:VCALENDAR
VERSION:2.0
PRODID:-//Division of Infectious Diseases//NONSGML Events//EN
CALSCALE:GREGORIAN
X-ORIGINAL-URL:https://infectiousdiseases.wustl.edu/events/
X-WR-CALDESC:Division of Infectious Diseases - Events
BEGIN:VEVENT
UID:20220722T0214Z-1658456067.1256-EO-28486-1@172.23.128.18
STATUS:CONFIRMED
DTSTAMP:20260422T193933Z
CREATED:20220720T170330Z
LAST-MODIFIED:20220720T170330Z
DTSTART;TZID=America/Chicago:20220802T120000
DTEND;TZID=America/Chicago:20220802T130000
SUMMARY: HIV Core Curriculum
DESCRIPTION: Title:  Overview of HIV Speaker:  William Powderly\, MD Zoom l
 ink 
X-ALT-DESC;FMTTYPE=text/html: <p><strong>Title:</strong>  Overview of HIV</
 p><p><strong>Speaker:</strong>  William Powderly\, MD</p><p><a href="https:
 //wustl-hipaa.zoom.us/j/92291544144?pwd=TGhxQTgyMnc0VnVTTjJON0VOeStuUT09">Z
 oom link </a></p>
CATEGORIES:HIV &amp\; Hepatitis Series
LOCATION:Northwest Tower - Large Conference Room #15122 (15th floor)
GEO:38.634694;-90.259683
ORGANIZER;CN="Stephanie":MAILTO:smcmanus@wustl.edu
URL;VALUE=URI:https://infectiousdiseases.wustl.edu/events/event/hiv-core-cu
 rriculum-40/
END:VEVENT
BEGIN:VTIMEZONE
TZID:America/Chicago
BEGIN:DAYLIGHT
TZOFFSETFROM:-0600
TZOFFSETTO:-0500
DTSTART:20220313T080000
TZNAME:CDT
END:DAYLIGHT
END:VTIMEZONE
END:VCALENDAR
