BEGIN:VCALENDAR
VERSION:2.0
PRODID:-//Division of Infectious Diseases//NONSGML Events//EN
CALSCALE:GREGORIAN
X-ORIGINAL-URL:https://infectiousdiseases.wustl.edu/events/
X-WR-CALDESC:Division of Infectious Diseases - Events
BEGIN:VEVENT
UID:20211105T0503Z-1636088608.2667-EO-23765-1@172.23.128.18
STATUS:CONFIRMED
DTSTAMP:20260420T185445Z
CREATED:20211028T123652Z
LAST-MODIFIED:20211028T123652Z
DTSTART;TZID=America/Chicago:20220531T120000
DTEND;TZID=America/Chicago:20220531T130000
SUMMARY: HIV Core Curriculum
DESCRIPTION: Name of the Talk: Day in the life of a clinic fellow- must kno
 w to graduate! Speaker: Patrick Mazi   * For journal club please discuss ch
 oice of article with mentoring attending. Topics can be switched or substit
 uted. ** Ideal cases for case conference are active cases that would benefi
 t from discussion and input from […]
X-ALT-DESC;FMTTYPE=text/html: <p><strong>Name of the Talk:</strong> Day in 
 the life of a clinic fellow- must know to graduate!</p><p><strong>Speaker:<
 /strong> Patrick Mazi</p><p> </p><p><em>* For journal club please discuss c
 hoice of article with mentoring attending. Topics can be switched or substi
 tuted.</em></p><p><em>** Ideal cases for case conference are active cases t
 hat would benefit from discussion and input from the whole team. These case
 s should take priority over the suggested case conference topic if availabl
 e.</em></p>
CATEGORIES:HIV &amp\; Hepatitis Series
LOCATION:Northwest Tower - Large Conference Room #15122 (15th floor)
GEO:38.634694;-90.259683
ORGANIZER;CN="McKinzie":MAILTO:tolliver.m@wustl.edu
URL;VALUE=URI:https://infectiousdiseases.wustl.edu/events/event/hiv-core-cu
 rriculum-39/
END:VEVENT
BEGIN:VTIMEZONE
TZID:America/Chicago
BEGIN:DAYLIGHT
TZOFFSETFROM:-0600
TZOFFSETTO:-0500
DTSTART:20220313T080000
TZNAME:CDT
END:DAYLIGHT
END:VTIMEZONE
END:VCALENDAR
