BEGIN:VCALENDAR
VERSION:2.0
PRODID:-//Division of Infectious Diseases//NONSGML Events//EN
CALSCALE:GREGORIAN
X-ORIGINAL-URL:https://infectiousdiseases.wustl.edu/events/
X-WR-CALDESC:Division of Infectious Diseases - Events
BEGIN:VEVENT
UID:20211105T0503Z-1636088608.2634-EO-23764-1@172.23.128.18
STATUS:CONFIRMED
DTSTAMP:20260423T081249Z
CREATED:20211028T123548Z
LAST-MODIFIED:20211028T123548Z
DTSTART;TZID=America/Chicago:20220524T120000
DTEND;TZID=America/Chicago:20220524T130000
SUMMARY: HIV Core Curriculum
DESCRIPTION: Name of the Talk: Fungal Infections in HIV Speaker: Andrej Spe
 c   * For journal club please discuss choice of article with mentoring atte
 nding. Topics can be switched or substituted. ** Ideal cases for case confe
 rence are active cases that would benefit from discussion and input from th
 e whole team. These cases should take priority […]
X-ALT-DESC;FMTTYPE=text/html: <p><strong>Name of the Talk:</strong> Fungal 
 Infections in HIV</p><p><strong>Speaker:</strong> Andrej Spec</p><p> </p><p
 ><em>* For journal club please discuss choice of article with mentoring att
 ending. Topics can be switched or substituted.</em></p><p><em>** Ideal case
 s for case conference are active cases that would benefit from discussion a
 nd input from the whole team. These cases should take priority over the sug
 gested case conference topic if available.</em></p>
CATEGORIES:HIV &amp\; Hepatitis Series
LOCATION:Northwest Tower - Large Conference Room #15122 (15th floor)
GEO:38.634694;-90.259683
ORGANIZER;CN="McKinzie":MAILTO:tolliver.m@wustl.edu
URL;VALUE=URI:https://infectiousdiseases.wustl.edu/events/event/hiv-core-cu
 rriculum-38/
END:VEVENT
BEGIN:VTIMEZONE
TZID:America/Chicago
BEGIN:DAYLIGHT
TZOFFSETFROM:-0600
TZOFFSETTO:-0500
DTSTART:20220313T080000
TZNAME:CDT
END:DAYLIGHT
END:VTIMEZONE
END:VCALENDAR
