BEGIN:VCALENDAR
VERSION:2.0
PRODID:-//Division of Infectious Diseases//NONSGML Events//EN
CALSCALE:GREGORIAN
X-ORIGINAL-URL:https://infectiousdiseases.wustl.edu/events/
X-WR-CALDESC:Division of Infectious Diseases - Events
BEGIN:VEVENT
UID:20211105T0503Z-1636088608.2366-EO-23761-1@172.23.128.18
STATUS:CONFIRMED
DTSTAMP:20260423T003305Z
CREATED:20211028T123217Z
LAST-MODIFIED:20211028T123217Z
DTSTART;TZID=America/Chicago:20220503T120000
DTEND;TZID=America/Chicago:20220503T130000
SUMMARY: HIV Core Curriculum
DESCRIPTION: Name of the Talk: Mycobacterium and HIV (case based) Speaker: 
 Carlos Mejia   * For journal club please discuss choice of article with men
 toring attending. Topics can be switched or substituted. ** Ideal cases for
  case conference are active cases that would benefit from discussion and in
 put from the whole team. These cases should take […]
X-ALT-DESC;FMTTYPE=text/html: <p><strong>Name of the Talk:</strong> Mycobac
 terium and HIV (case based)</p><p><strong>Speaker:</strong> Carlos Mejia</p
 ><p> </p><p><em>* For journal club please discuss choice of article with me
 ntoring attending. Topics can be switched or substituted.</em></p><p><em>**
  Ideal cases for case conference are active cases that would benefit from d
 iscussion and input from the whole team. These cases should take priority o
 ver the suggested case conference topic if available.</em></p>
CATEGORIES:HIV &amp\; Hepatitis Series
LOCATION:Northwest Tower - Large Conference Room #15122 (15th floor)
GEO:38.634694;-90.259683
ORGANIZER;CN="McKinzie":MAILTO:tolliver.m@wustl.edu
URL;VALUE=URI:https://infectiousdiseases.wustl.edu/events/event/hiv-core-cu
 rriculum-35/
END:VEVENT
BEGIN:VTIMEZONE
TZID:America/Chicago
BEGIN:DAYLIGHT
TZOFFSETFROM:-0600
TZOFFSETTO:-0500
DTSTART:20220313T080000
TZNAME:CDT
END:DAYLIGHT
END:VTIMEZONE
END:VCALENDAR
