BEGIN:VCALENDAR
VERSION:2.0
PRODID:-//Division of Infectious Diseases//NONSGML Events//EN
CALSCALE:GREGORIAN
X-ORIGINAL-URL:https://infectiousdiseases.wustl.edu/events/
X-WR-CALDESC:Division of Infectious Diseases - Events
BEGIN:VEVENT
UID:20211105T0503Z-1636088608.2217-EO-23759-1@172.23.128.18
STATUS:CONFIRMED
DTSTAMP:20260422T172051Z
CREATED:20211028T123005Z
LAST-MODIFIED:20211028T123005Z
DTSTART;TZID=America/Chicago:20220419T120000
DTEND;TZID=America/Chicago:20220419T130000
SUMMARY: HIV Core Curriculum
DESCRIPTION: Name of the Talk: Pediatric Case Conference Speaker: Pediatric
  ID fellows   * For journal club please discuss choice of article with ment
 oring attending. Topics can be switched or substituted. ** Ideal cases for 
 case conference are active cases that would benefit from discussion and inp
 ut from the whole team. These cases should take priority […]
X-ALT-DESC;FMTTYPE=text/html: <p><strong>Name of the Talk:</strong> Pediatr
 ic Case Conference</p><p><strong>Speaker:</strong> Pediatric ID fellows</p>
 <p> </p><p><em>* For journal club please discuss choice of article with men
 toring attending. Topics can be switched or substituted.</em></p><p><em>** 
 Ideal cases for case conference are active cases that would benefit from di
 scussion and input from the whole team. These cases should take priority ov
 er the suggested case conference topic if available.</em></p>
CATEGORIES:HIV &amp\; Hepatitis Series
LOCATION:Northwest Tower - Large Conference Room #15122 (15th floor)
GEO:38.634694;-90.259683
ORGANIZER;CN="McKinzie":MAILTO:tolliver.m@wustl.edu
URL;VALUE=URI:https://infectiousdiseases.wustl.edu/events/event/hiv-core-cu
 rriculum-33/
END:VEVENT
BEGIN:VTIMEZONE
TZID:America/Chicago
BEGIN:DAYLIGHT
TZOFFSETFROM:-0600
TZOFFSETTO:-0500
DTSTART:20220313T080000
TZNAME:CDT
END:DAYLIGHT
END:VTIMEZONE
END:VCALENDAR
