BEGIN:VCALENDAR
VERSION:2.0
PRODID:-//Division of Infectious Diseases//NONSGML Events//EN
CALSCALE:GREGORIAN
X-ORIGINAL-URL:https://infectiousdiseases.wustl.edu/events/
X-WR-CALDESC:Division of Infectious Diseases - Events
BEGIN:VEVENT
UID:20211105T0503Z-1636088608.2081-EO-23757-1@172.23.128.18
STATUS:CONFIRMED
DTSTAMP:20260423T163735Z
CREATED:20211028T122746Z
LAST-MODIFIED:20211028T122746Z
DTSTART;TZID=America/Chicago:20220405T120000
DTEND;TZID=America/Chicago:20220405T130000
SUMMARY: HIV Core Curriculum
DESCRIPTION: Name of the Talk: Work in progress (clinical trials) Speaker: 
 Presti/O’Halloran   * For journal club please discuss choice of article wit
 h mentoring attending. Topics can be switched or substituted. ** Ideal case
 s for case conference are active cases that would benefit from discussion a
 nd input from the whole team. These cases should take priority […]
X-ALT-DESC;FMTTYPE=text/html: <p><strong>Name of the Talk:</strong> Work in
  progress (clinical trials)</p><p><strong>Speaker:</strong> Presti/O’Hallor
 an</p><p> </p><p><em>* For journal club please discuss choice of article wi
 th mentoring attending. Topics can be switched or substituted.</em></p><p><
 em>** Ideal cases for case conference are active cases that would benefit f
 rom discussion and input from the whole team. These cases should take prior
 ity over the suggested case conference topic if available.</em></p>
CATEGORIES:HIV &amp\; Hepatitis Series
LOCATION:Northwest Tower - Large Conference Room #15122 (15th floor)
GEO:38.634694;-90.259683
ORGANIZER;CN="McKinzie":MAILTO:tolliver.m@wustl.edu
URL;VALUE=URI:https://infectiousdiseases.wustl.edu/events/event/hiv-core-cu
 rriculum-31/
END:VEVENT
BEGIN:VTIMEZONE
TZID:America/Chicago
BEGIN:DAYLIGHT
TZOFFSETFROM:-0600
TZOFFSETTO:-0500
DTSTART:20220313T080000
TZNAME:CDT
END:DAYLIGHT
END:VTIMEZONE
END:VCALENDAR
