BEGIN:VCALENDAR
VERSION:2.0
PRODID:-//Division of Infectious Diseases//NONSGML Events//EN
CALSCALE:GREGORIAN
X-ORIGINAL-URL:https://infectiousdiseases.wustl.edu/events/
X-WR-CALDESC:Division of Infectious Diseases - Events
BEGIN:VEVENT
UID:20211105T0503Z-1636088608.1994-EO-23756-1@172.23.128.18
STATUS:CONFIRMED
DTSTAMP:20260423T021523Z
CREATED:20211028T122637Z
LAST-MODIFIED:20211028T122637Z
DTSTART;TZID=America/Chicago:20220329T120000
DTEND;TZID=America/Chicago:20220329T130000
SUMMARY: HIV Core Curriculum
DESCRIPTION: Name of the Talk: Case Conference (challenging cases) Speaker:
  Hong/Parra-Rodriguez (Escota/O’Halloran)   * For journal club please discu
 ss choice of article with mentoring attending. Topics can be switched or su
 bstituted. ** Ideal cases for case conference are active cases that would b
 enefit from discussion and input from the whole team. These cases should ta
 ke priority […]
X-ALT-DESC;FMTTYPE=text/html: <p><strong>Name of the Talk:</strong> Case Co
 nference (challenging cases)</p><p><strong>Speaker:</strong> Hong/Parra-Rod
 riguez (Escota/O’Halloran)</p><p> </p><p><em>* For journal club please disc
 uss choice of article with mentoring attending. Topics can be switched or s
 ubstituted.</em></p><p><em>** Ideal cases for case conference are active ca
 ses that would benefit from discussion and input from the whole team. These
  cases should take priority over the suggested case conference topic if ava
 ilable.</em></p>
CATEGORIES:HIV &amp\; Hepatitis Series
LOCATION:Northwest Tower - Large Conference Room #15122 (15th floor)
GEO:38.634694;-90.259683
ORGANIZER;CN="McKinzie":MAILTO:tolliver.m@wustl.edu
URL;VALUE=URI:https://infectiousdiseases.wustl.edu/events/event/hiv-core-cu
 rriculum-30/
END:VEVENT
BEGIN:VTIMEZONE
TZID:America/Chicago
BEGIN:DAYLIGHT
TZOFFSETFROM:-0600
TZOFFSETTO:-0500
DTSTART:20220313T080000
TZNAME:CDT
END:DAYLIGHT
END:VTIMEZONE
END:VCALENDAR
