BEGIN:VCALENDAR
VERSION:2.0
PRODID:-//Division of Infectious Diseases//NONSGML Events//EN
CALSCALE:GREGORIAN
X-ORIGINAL-URL:https://infectiousdiseases.wustl.edu/events/
X-WR-CALDESC:Division of Infectious Diseases - Events
BEGIN:VEVENT
UID:20211105T0503Z-1636088608.1841-EO-23754-1@172.23.128.18
STATUS:CONFIRMED
DTSTAMP:20260422T213024Z
CREATED:20211028T122424Z
LAST-MODIFIED:20211028T122424Z
DTSTART;TZID=America/Chicago:20220315T120000
DTEND;TZID=America/Chicago:20220315T130000
SUMMARY: HIV Core Curriculum
DESCRIPTION: Name of the Talk: Case conference (Resistance) Speaker: Pinzon
 e/Montes (Kirmani/Barrette)   * For journal club please discuss choice of a
 rticle with mentoring attending. Topics can be switched or substituted. ** 
 Ideal cases for case conference are active cases that would benefit from di
 scussion and input from the whole team. These cases should take priority ov
 er […]
X-ALT-DESC;FMTTYPE=text/html: <p><strong>Name of the Talk:</strong> Case co
 nference (Resistance)</p><p><strong>Speaker:</strong> Pinzone/Montes (Kirma
 ni/Barrette)</p><p> </p><p><em>* For journal club please discuss choice of 
 article with mentoring attending. Topics can be switched or substituted.</e
 m></p><p><em>** Ideal cases for case conference are active cases that would
  benefit from discussion and input from the whole team. These cases should 
 take priority over the suggested case conference topic if available.</em></
 p>
CATEGORIES:HIV &amp\; Hepatitis Series
LOCATION:Northwest Tower - Large Conference Room #15122 (15th floor)
GEO:38.634694;-90.259683
ORGANIZER;CN="McKinzie":MAILTO:tolliver.m@wustl.edu
URL;VALUE=URI:https://infectiousdiseases.wustl.edu/events/event/hiv-core-cu
 rriculum-28/
END:VEVENT
BEGIN:VTIMEZONE
TZID:America/Chicago
BEGIN:DAYLIGHT
TZOFFSETFROM:-0600
TZOFFSETTO:-0500
DTSTART:20220313T080000
TZNAME:CDT
END:DAYLIGHT
END:VTIMEZONE
END:VCALENDAR
