BEGIN:VCALENDAR
VERSION:2.0
PRODID:-//Division of Infectious Diseases//NONSGML Events//EN
CALSCALE:GREGORIAN
X-ORIGINAL-URL:https://infectiousdiseases.wustl.edu/events/
X-WR-CALDESC:Division of Infectious Diseases - Events
BEGIN:VEVENT
UID:20211105T0503Z-1636088608.1779-EO-23753-1@172.23.128.18
STATUS:CONFIRMED
DTSTAMP:20260423T111215Z
CREATED:20211028T122327Z
LAST-MODIFIED:20211028T122327Z
DTSTART;TZID=America/Chicago:20220308T120000
DTEND;TZID=America/Chicago:20220308T130000
SUMMARY: HIV Core Curriculum
DESCRIPTION: Name of the Talk: Healthcare disparities in HIV Speaker: Josep
 h Cherabie   * For journal club please discuss choice of article with mento
 ring attending. Topics can be switched or substituted. ** Ideal cases for c
 ase conference are active cases that would benefit from discussion and inpu
 t from the whole team. These cases should take priority […]
X-ALT-DESC;FMTTYPE=text/html: <p><strong>Name of the Talk:</strong> Healthc
 are disparities in HIV</p><p><strong>Speaker:</strong> Joseph Cherabie</p><
 p> </p><p><em>* For journal club please discuss choice of article with ment
 oring attending. Topics can be switched or substituted.</em></p><p><em>** I
 deal cases for case conference are active cases that would benefit from dis
 cussion and input from the whole team. These cases should take priority ove
 r the suggested case conference topic if available.</em></p>
CATEGORIES:HIV &amp\; Hepatitis Series
LOCATION:Northwest Tower - Large Conference Room #15122 (15th floor)
GEO:38.634694;-90.259683
ORGANIZER;CN="McKinzie":MAILTO:tolliver.m@wustl.edu
URL;VALUE=URI:https://infectiousdiseases.wustl.edu/events/event/hiv-core-cu
 rriculum-27/
END:VEVENT
BEGIN:VTIMEZONE
TZID:America/Chicago
BEGIN:STANDARD
TZOFFSETFROM:-0500
TZOFFSETTO:-0600
DTSTART:20211107T070000
TZNAME:CST
END:STANDARD
END:VTIMEZONE
END:VCALENDAR
