BEGIN:VCALENDAR
VERSION:2.0
PRODID:-//Division of Infectious Diseases//NONSGML Events//EN
CALSCALE:GREGORIAN
X-ORIGINAL-URL:https://infectiousdiseases.wustl.edu/events/
X-WR-CALDESC:Division of Infectious Diseases - Events
BEGIN:VEVENT
UID:20211105T0503Z-1636088608.1264-EO-23746-1@172.23.128.18
STATUS:CONFIRMED
DTSTAMP:20260425T052238Z
CREATED:20211028T121430Z
LAST-MODIFIED:20211028T121430Z
DTSTART;TZID=America/Chicago:20220111T120000
DTEND;TZID=America/Chicago:20220111T130000
SUMMARY: HIV Core Curriculum
DESCRIPTION: Name of the Talk: Case Conference (Hepatitis) Speaker: Mansoor
 /Olson (Presti/Marks)   * For journal club please discuss choice of article
  with mentoring attending. Topics can be switched or substituted. ** Ideal 
 cases for case conference are active cases that would benefit from discussi
 on and input from the whole team. These cases should take priority over […]
X-ALT-DESC;FMTTYPE=text/html: <p><strong>Name of the Talk:</strong> Case Co
 nference (Hepatitis)</p><p><strong>Speaker:</strong> Mansoor/Olson (Presti/
 Marks)</p><p> </p><p><em>* For journal club please discuss choice of articl
 e with mentoring attending. Topics can be switched or substituted.</em></p>
 <p><em>** Ideal cases for case conference are active cases that would benef
 it from discussion and input from the whole team. These cases should take p
 riority over the suggested case conference topic if available.</em></p>
CATEGORIES:HIV &amp\; Hepatitis Series
LOCATION:Northwest Tower - Large Conference Room #15122 (15th floor)
GEO:38.634694;-90.259683
ORGANIZER;CN="McKinzie":MAILTO:tolliver.m@wustl.edu
URL;VALUE=URI:https://infectiousdiseases.wustl.edu/events/event/hiv-core-cu
 rriculum-20/
END:VEVENT
BEGIN:VTIMEZONE
TZID:America/Chicago
BEGIN:STANDARD
TZOFFSETFROM:-0500
TZOFFSETTO:-0600
DTSTART:20211107T070000
TZNAME:CST
END:STANDARD
END:VTIMEZONE
END:VCALENDAR
