BEGIN:VCALENDAR
VERSION:2.0
PRODID:-//Division of Infectious Diseases//NONSGML Events//EN
CALSCALE:GREGORIAN
X-ORIGINAL-URL:https://infectiousdiseases.wustl.edu/events/
X-WR-CALDESC:Division of Infectious Diseases - Events
BEGIN:VEVENT
UID:20211105T0503Z-1636088608.0821-EO-23741-1@172.23.128.18
STATUS:CONFIRMED
DTSTAMP:20260423T165121Z
CREATED:20211027T210835Z
LAST-MODIFIED:20211027T210835Z
DTSTART;TZID=America/Chicago:20211116T120000
DTEND;TZID=America/Chicago:20211116T130000
SUMMARY: HIV Core Curriculum
DESCRIPTION: Name of the Talk: Journal Club (Advances in treatment or preve
 ntion) Speaker: Hong/Sung (Presti/Patel) * For journal club please discuss 
 choice of article with mentoring attending. Topics can be switched or subst
 ituted. ** Ideal cases for case conference are active cases that would bene
 fit from discussion and input from the whole team. These cases should […]
X-ALT-DESC;FMTTYPE=text/html: <p><strong>Name of the Talk:</strong> Journal
  Club (Advances in treatment or prevention)</p><p><strong>Speaker:</strong>
  Hong/Sung (Presti/Patel)</p><p>* For journal club please discuss choice of
  article with mentoring attending. Topics can be switched or substituted.</
 p><p>** Ideal cases for case conference are active cases that would benefit
  from discussion and input from the whole team. These cases should take pri
 ority over the suggested case conference topic if available.</p>
CATEGORIES:HIV &amp\; Hepatitis Series
LOCATION:Northwest Tower - Large Conference Room #15122 (15th floor)
GEO:38.634694;-90.259683
ORGANIZER;CN="McKinzie":MAILTO:tolliver.m@wustl.edu
URL;VALUE=URI:https://infectiousdiseases.wustl.edu/events/event/hiv-core-cu
 rriculum-15/
END:VEVENT
BEGIN:VTIMEZONE
TZID:America/Chicago
BEGIN:STANDARD
TZOFFSETFROM:-0500
TZOFFSETTO:-0600
DTSTART:20211107T070000
TZNAME:CST
END:STANDARD
END:VTIMEZONE
END:VCALENDAR
