BEGIN:VCALENDAR
VERSION:2.0
PRODID:-//Division of Infectious Diseases//NONSGML Events//EN
CALSCALE:GREGORIAN
X-ORIGINAL-URL:https://infectiousdiseases.wustl.edu/events/
X-WR-CALDESC:Division of Infectious Diseases - Events
BEGIN:VEVENT
UID:20211105T0503Z-1636088608.0767-EO-23740-1@172.23.128.18
STATUS:CONFIRMED
DTSTAMP:20260423T182530Z
CREATED:20211027T210723Z
LAST-MODIFIED:20211028T200853Z
DTSTART;TZID=America/Chicago:20211109T120000
DTEND;TZID=America/Chicago:20211109T130000
SUMMARY: HIV Core Curriculum
DESCRIPTION: Name of the Talk: Transgender Medicine Speaker: Hilary Reno * 
 For journal club please discuss choice of article with mentoring attending.
  Topics can be switched or substituted. ** Ideal cases for case conference 
 are active cases that would benefit from discussion and input from the whol
 e team. These cases should take priority over the suggested […]
X-ALT-DESC;FMTTYPE=text/html: <p><strong>Name of the Talk:</strong> Transge
 nder Medicine</p><p><strong>Speaker:</strong> Hilary Reno</p><p><em>* For j
 ournal club please discuss choice of article with mentoring attending. Topi
 cs can be switched or substituted.</em></p><p><em>** Ideal cases for case c
 onference are active cases that would benefit from discussion and input fro
 m the whole team. These cases should take priority over the suggested case 
 conference topic if available.</em></p>
CATEGORIES:HIV &amp\; Hepatitis Series
LOCATION:Northwest Tower - Large Conference Room #15122 (15th floor)
GEO:38.634694;-90.259683
ORGANIZER;CN="McKinzie":MAILTO:tolliver.m@wustl.edu
URL;VALUE=URI:https://infectiousdiseases.wustl.edu/events/event/hiv-core-cu
 rriculum-14/
END:VEVENT
BEGIN:VTIMEZONE
TZID:America/Chicago
BEGIN:STANDARD
TZOFFSETFROM:-0500
TZOFFSETTO:-0600
DTSTART:20211107T070000
TZNAME:CST
END:STANDARD
END:VTIMEZONE
END:VCALENDAR
