BEGIN:VCALENDAR
VERSION:2.0
PRODID:-//Division of Infectious Diseases//NONSGML Events//EN
CALSCALE:GREGORIAN
X-ORIGINAL-URL:https://infectiousdiseases.wustl.edu/events/
X-WR-CALDESC:Division of Infectious Diseases - Events
BEGIN:VEVENT
UID:20211105T0503Z-1636088608.0285-EO-23738-1@172.23.128.18
STATUS:CONFIRMED
DTSTAMP:20260423T165121Z
CREATED:20211027T210455Z
LAST-MODIFIED:20211027T210455Z
DTSTART;TZID=America/Chicago:20211026T120000
DTEND;TZID=America/Chicago:20211026T130000
SUMMARY: HIV Core Curriculum
DESCRIPTION: Name of the Talk: Viral hepatitis (case based) Speaker: Laura 
 Marks   * For journal club please discuss choice of article with mentoring 
 attending. Topics can be switched or substituted. ** Ideal cases for case c
 onference are active cases that would benefit from discussion and input fro
 m the whole team. These cases should take priority […]
X-ALT-DESC;FMTTYPE=text/html: <p><strong>Name of the Talk:</strong> Viral h
 epatitis (case based)</p><p><strong>Speaker:</strong> Laura Marks</p><p> </
 p><p>* For journal club please discuss choice of article with mentoring att
 ending. Topics can be switched or substituted.</p><p>** Ideal cases for cas
 e conference are active cases that would benefit from discussion and input 
 from the whole team. These cases should take priority over the suggested ca
 se conference topic if available.</p>
CATEGORIES:HIV &amp\; Hepatitis Series
LOCATION:Northwest Tower - Large Conference Room #15122 (15th floor)
GEO:38.634694;-90.259683
ORGANIZER;CN="McKinzie":MAILTO:tolliver.m@wustl.edu
URL;VALUE=URI:https://infectiousdiseases.wustl.edu/events/event/hiv-core-cu
 rriculum-12/
END:VEVENT
BEGIN:VTIMEZONE
TZID:America/Chicago
BEGIN:DAYLIGHT
TZOFFSETFROM:-0600
TZOFFSETTO:-0500
DTSTART:20210314T080000
TZNAME:CDT
END:DAYLIGHT
END:VTIMEZONE
END:VCALENDAR
